BEGIN:VCALENDAR
VERSION:2.0
PRODID:-//Wellness With Me
CALSCALE:GREGORIAN
METHOD:PUBLISH
X-WR-CALNAME:Wellness With Me
X-ORIGINAL-URL:https://wellnesswithme.co.uk/product/so-spa-wellness-day-at-sofitel-dubai/
X-WR-CALDESC:So Spa Wellness Day at Sofitel, Dubai
BEGIN:VEVENT
DTSTART;TZID=Asia/Dubai:20180919T000000
DTEND;TZID=Asia/Dubai:20180919T000000
SUMMARY:So Spa Wellness Day at Sofitel, Dubai
DESCRIPTION:An evening event with Health &amp; Wellness Coach Tayyaba Jordan and Nutritionist Ivana Silva. Full event details and ticketing information TBA.
URL:https://wellnesswithme.co.uk/product/so-spa-wellness-day-at-sofitel-dubai/
LOCATION:The Library, Sofitel the Palm, Dubai Palm Jumeirah, East Crescent Road - Dubai - United Arab Emirates
END:VEVENT
END:VCALENDAR
