BEGIN:VCALENDAR
VERSION:2.0
PRODID:-//Wellness With Me
CALSCALE:GREGORIAN
METHOD:PUBLISH
X-WR-CALNAME:Wellness With Me
X-ORIGINAL-URL:https://wellnesswithme.co.uk/product/the-5-keys-to-keeping-your-teams-physically-and-mentally-healthy-and-productive-2/
X-WR-CALDESC:The 5 keys to keeping your teams physically and mentally healthy and productive
BEGIN:VEVENT
DTSTART;TZID=Europe/London:20200611T120000
DTEND;TZID=Europe/London:20200611T130000
SUMMARY:The 5 keys to keeping your teams physically and mentally healthy and productive
DESCRIPTION:A 30 minute talk highlighting simple strategies for CEOS and HR departments to create health, vitality and maintain the physical, emotional and mental health of their employees.
URL:https://wellnesswithme.co.uk/product/the-5-keys-to-keeping-your-teams-physically-and-mentally-healthy-and-productive-2/
LOCATION:
END:VEVENT
END:VCALENDAR
