BEGIN:VCALENDAR
VERSION:2.0
PRODID:-//Wellness With Me
CALSCALE:GREGORIAN
METHOD:PUBLISH
X-WR-CALNAME:Wellness With Me
X-ORIGINAL-URL:https://wellnesswithme.co.uk/product/from-stressed-and-messed-to-strong-sassy-and-successful-london-04-19/
X-WR-CALDESC:From Stressed and Messed to Strong, Sassy and Successful! (London)
BEGIN:VEVENT
DTSTART;TZID=Europe/London:20190416T123000
DTEND;TZID=Europe/London:20190416T133000
SUMMARY:From Stressed and Messed to Strong, Sassy and Successful! (London)
DESCRIPTION:Five simple steps to find long lasting health (for life) without Fad Diets! Learn how to manage your life in a happier and healthier way with renowned International Health and Wellness Coach - Tayyaba Jordan.
URL:https://wellnesswithme.co.uk/product/from-stressed-and-messed-to-strong-sassy-and-successful-london-04-19/
LOCATION:WeWork, Medius House, 2 Sheraton St, Soho, London W1F 8BH
END:VEVENT
END:VCALENDAR
